BEGIN:VCALENDAR
VERSION:2.0
PRODID:-//Orange Township, OH - Official Website - ECPv6.15.20//NONSGML v1.0//EN
CALSCALE:GREGORIAN
METHOD:PUBLISH
X-ORIGINAL-URL:https://www.orangetwp.org
X-WR-CALDESC:Events for Orange Township, OH - Official Website
REFRESH-INTERVAL;VALUE=DURATION:PT1H
X-Robots-Tag:noindex
X-PUBLISHED-TTL:PT1H
BEGIN:VTIMEZONE
TZID:America/Halifax
BEGIN:DAYLIGHT
TZOFFSETFROM:-0400
TZOFFSETTO:-0300
TZNAME:ADT
DTSTART:20220313T060000
END:DAYLIGHT
BEGIN:STANDARD
TZOFFSETFROM:-0300
TZOFFSETTO:-0400
TZNAME:AST
DTSTART:20221106T050000
END:STANDARD
BEGIN:DAYLIGHT
TZOFFSETFROM:-0400
TZOFFSETTO:-0300
TZNAME:ADT
DTSTART:20230312T060000
END:DAYLIGHT
BEGIN:STANDARD
TZOFFSETFROM:-0300
TZOFFSETTO:-0400
TZNAME:AST
DTSTART:20231105T050000
END:STANDARD
BEGIN:DAYLIGHT
TZOFFSETFROM:-0400
TZOFFSETTO:-0300
TZNAME:ADT
DTSTART:20240310T060000
END:DAYLIGHT
BEGIN:STANDARD
TZOFFSETFROM:-0300
TZOFFSETTO:-0400
TZNAME:AST
DTSTART:20241103T050000
END:STANDARD
BEGIN:DAYLIGHT
TZOFFSETFROM:-0400
TZOFFSETTO:-0300
TZNAME:ADT
DTSTART:20250309T060000
END:DAYLIGHT
BEGIN:STANDARD
TZOFFSETFROM:-0300
TZOFFSETTO:-0400
TZNAME:AST
DTSTART:20251102T050000
END:STANDARD
END:VTIMEZONE
BEGIN:VEVENT
DTSTART;TZID=America/Halifax:20240720T090000
DTEND;TZID=America/Halifax:20240720T120000
DTSTAMP:20260419T130631
CREATED:20240701T193005Z
LAST-MODIFIED:20240701T193743Z
UID:13186-1721466000-1721476800@www.orangetwp.org
SUMMARY:Car Seat Safety Inspection
DESCRIPTION:Your child’s safety in the car is our priority! Stop by Orange Township\, Delaware County\, Ohio fire station on July 20 for a FREE inspection with a certified Child Passenger Safety Technician. Book an appointment or simply walk in. Let’s keep our little ones safe on the road! Email carseats@delawarehealth.org \nOrange Township car seat check 7.20.24 (6) (1)
URL:https://www.orangetwp.org/event/car-seat-safety-inspection/
LOCATION:Station 362\, 7307 S. Old State Road\, Lewis Center\, OH\, 43035\, United States
END:VEVENT
BEGIN:VEVENT
DTSTART;TZID=America/Halifax:20230506T090000
DTEND;TZID=America/Halifax:20230506T120000
DTSTAMP:20260419T130631
CREATED:20230428T161144Z
LAST-MODIFIED:20230511T122602Z
UID:7648-1683363600-1683374400@www.orangetwp.org
SUMMARY:CPR Basics Course
DESCRIPTION:
URL:https://www.orangetwp.org/event/cpr-basics-course/
LOCATION:Station 362\, 7307 S. Old State Road\, Lewis Center\, OH\, 43035\, United States
END:VEVENT
END:VCALENDAR