BEGIN:VCALENDAR
VERSION:2.0
PRODID:-//Orange Township, OH - Official Website - ECPv6.15.20//NONSGML v1.0//EN
CALSCALE:GREGORIAN
METHOD:PUBLISH
X-WR-CALNAME:Orange Township, OH - Official Website
X-ORIGINAL-URL:https://www.orangetwp.org
X-WR-CALDESC:Events for Orange Township, OH - Official Website
REFRESH-INTERVAL;VALUE=DURATION:PT1H
X-Robots-Tag:noindex
X-PUBLISHED-TTL:PT1H
BEGIN:VTIMEZONE
TZID:America/Halifax
BEGIN:DAYLIGHT
TZOFFSETFROM:-0400
TZOFFSETTO:-0300
TZNAME:ADT
DTSTART:20250309T060000
END:DAYLIGHT
BEGIN:STANDARD
TZOFFSETFROM:-0300
TZOFFSETTO:-0400
TZNAME:AST
DTSTART:20251102T050000
END:STANDARD
BEGIN:DAYLIGHT
TZOFFSETFROM:-0400
TZOFFSETTO:-0300
TZNAME:ADT
DTSTART:20260308T060000
END:DAYLIGHT
BEGIN:STANDARD
TZOFFSETFROM:-0300
TZOFFSETTO:-0400
TZNAME:AST
DTSTART:20261101T050000
END:STANDARD
BEGIN:DAYLIGHT
TZOFFSETFROM:-0400
TZOFFSETTO:-0300
TZNAME:ADT
DTSTART:20270314T060000
END:DAYLIGHT
BEGIN:STANDARD
TZOFFSETFROM:-0300
TZOFFSETTO:-0400
TZNAME:AST
DTSTART:20271107T050000
END:STANDARD
END:VTIMEZONE
BEGIN:VEVENT
DTSTART;TZID=America/Halifax:20261007T150000
DTEND;TZID=America/Halifax:20261007T170000
DTSTAMP:20260420T212641
CREATED:20260109T153816Z
LAST-MODIFIED:20260115T175039Z
UID:19534-1791385200-1791392400@www.orangetwp.org
SUMMARY:Board of Trustees Regular Meeting
DESCRIPTION:
URL:https://www.orangetwp.org/event/board-of-trustees-regular-meeting-10-2026-10-07/2026-10-07/
LOCATION:Orange Township Hall Park\, 1680 E Orange Road\, Lewis Center\, OH\, 43035
CATEGORIES:General Events,Meeting Center
END:VEVENT
BEGIN:VEVENT
DTSTART;TZID=America/Halifax:20261007T150000
DTEND;TZID=America/Halifax:20261007T170000
DTSTAMP:20260420T212641
CREATED:20260109T153816Z
LAST-MODIFIED:20260109T153816Z
UID:19595-1791385200-1791392400@www.orangetwp.org
SUMMARY:Board of Trustees Regular Meeting
DESCRIPTION:
URL:https://www.orangetwp.org/event/board-of-trustees-regular-meeting-10-2026-09-02/2026-10-07/
LOCATION:Orange Township Hall Park\, 1680 E Orange Road\, Lewis Center\, OH\, 43035
CATEGORIES:General Events,Meeting Center
END:VEVENT
BEGIN:VEVENT
DTSTART;TZID=America/Halifax:20261021T150000
DTEND;TZID=America/Halifax:20261021T170000
DTSTAMP:20260420T212641
CREATED:20260116T131651Z
LAST-MODIFIED:20260116T131719Z
UID:19614-1792594800-1792602000@www.orangetwp.org
SUMMARY:Board of Trustees Regular Meeting
DESCRIPTION:
URL:https://www.orangetwp.org/event/board-of-trustees-regular-meeting-75/
LOCATION:Orange Township Hall Park\, 1680 E Orange Road\, Lewis Center\, OH\, 43035
CATEGORIES:General Events,Meeting Center
END:VEVENT
BEGIN:VEVENT
DTSTART;TZID=America/Halifax:20261104T150000
DTEND;TZID=America/Halifax:20261104T170000
DTSTAMP:20260420T212641
CREATED:20260109T153816Z
LAST-MODIFIED:20260115T175037Z
UID:19535-1793804400-1793811600@www.orangetwp.org
SUMMARY:Board of Trustees Regular Meeting
DESCRIPTION:
URL:https://www.orangetwp.org/event/board-of-trustees-regular-meeting-10-2026-11-04/
LOCATION:Orange Township Hall Park\, 1680 E Orange Road\, Lewis Center\, OH\, 43035
CATEGORIES:General Events,Meeting Center
END:VEVENT
BEGIN:VEVENT
DTSTART;TZID=America/Halifax:20261118T150000
DTEND;TZID=America/Halifax:20261118T170000
DTSTAMP:20260420T212641
CREATED:20260116T131827Z
LAST-MODIFIED:20260116T131854Z
UID:19616-1795014000-1795021200@www.orangetwp.org
SUMMARY:Board of Trustees Regular Meeting
DESCRIPTION:
URL:https://www.orangetwp.org/event/board-of-trustees-regular-meeting-76/
LOCATION:Orange Township Hall Park\, 1680 E Orange Road\, Lewis Center\, OH\, 43035
CATEGORIES:General Events,Meeting Center
END:VEVENT
BEGIN:VEVENT
DTSTART;TZID=America/Halifax:20261202T150000
DTEND;TZID=America/Halifax:20261202T170000
DTSTAMP:20260420T212641
CREATED:20260109T153816Z
LAST-MODIFIED:20260115T174337Z
UID:19537-1796223600-1796230800@www.orangetwp.org
SUMMARY:Board of Trustees Regular Meeting
DESCRIPTION:
URL:https://www.orangetwp.org/event/board-of-trustees-regular-meeting-10-2026-12-02/
LOCATION:Orange Township Hall Park\, 1680 E Orange Road\, Lewis Center\, OH\, 43035
CATEGORIES:General Events,Meeting Center
END:VEVENT
BEGIN:VEVENT
DTSTART;TZID=America/Halifax:20261216T150000
DTEND;TZID=America/Halifax:20261216T170000
DTSTAMP:20260420T212641
CREATED:20260116T132015Z
LAST-MODIFIED:20260116T132256Z
UID:19618-1797433200-1797440400@www.orangetwp.org
SUMMARY:Board of Trustees Regular Meeting
DESCRIPTION:
URL:https://www.orangetwp.org/event/board-of-trustees-regular-meeting-77/
LOCATION:Orange Township Hall Park\, 1680 E Orange Road\, Lewis Center\, OH\, 43035
CATEGORIES:General Events,Meeting Center
END:VEVENT
END:VCALENDAR