BEGIN:VCALENDAR
VERSION:2.0
PRODID:-//Orange Township, OH - Official Website - ECPv6.15.20//NONSGML v1.0//EN
CALSCALE:GREGORIAN
METHOD:PUBLISH
X-WR-CALNAME:Orange Township, OH - Official Website
X-ORIGINAL-URL:https://www.orangetwp.org
X-WR-CALDESC:Events for Orange Township, OH - Official Website
REFRESH-INTERVAL;VALUE=DURATION:PT1H
X-Robots-Tag:noindex
X-PUBLISHED-TTL:PT1H
BEGIN:VTIMEZONE
TZID:America/Halifax
BEGIN:DAYLIGHT
TZOFFSETFROM:-0400
TZOFFSETTO:-0300
TZNAME:ADT
DTSTART:20250309T060000
END:DAYLIGHT
BEGIN:STANDARD
TZOFFSETFROM:-0300
TZOFFSETTO:-0400
TZNAME:AST
DTSTART:20251102T050000
END:STANDARD
BEGIN:DAYLIGHT
TZOFFSETFROM:-0400
TZOFFSETTO:-0300
TZNAME:ADT
DTSTART:20260308T060000
END:DAYLIGHT
BEGIN:STANDARD
TZOFFSETFROM:-0300
TZOFFSETTO:-0400
TZNAME:AST
DTSTART:20261101T050000
END:STANDARD
BEGIN:DAYLIGHT
TZOFFSETFROM:-0400
TZOFFSETTO:-0300
TZNAME:ADT
DTSTART:20270314T060000
END:DAYLIGHT
BEGIN:STANDARD
TZOFFSETFROM:-0300
TZOFFSETTO:-0400
TZNAME:AST
DTSTART:20271107T050000
END:STANDARD
END:VTIMEZONE
BEGIN:VEVENT
DTSTART;TZID=America/Halifax:20260304T150000
DTEND;TZID=America/Halifax:20260304T170000
DTSTAMP:20260420T104011
CREATED:20260109T153816Z
LAST-MODIFIED:20260319T175951Z
UID:19527-1772636400-1772643600@www.orangetwp.org
SUMMARY:Board of Trustees Regular Meeting
DESCRIPTION:
URL:https://www.orangetwp.org/event/board-of-trustees-regular-meeting-10-2026-03-04/
LOCATION:Orange Township Hall Park\, 1680 E Orange Road\, Lewis Center\, OH\, 43035
CATEGORIES:General Events,Meeting Center
END:VEVENT
BEGIN:VEVENT
DTSTART;TZID=America/Halifax:20260310T183000
DTEND;TZID=America/Halifax:20260310T203000
DTSTAMP:20260420T104011
CREATED:20260213T134614Z
LAST-MODIFIED:20260312T182830Z
UID:19753-1773167400-1773174600@www.orangetwp.org
SUMMARY:Zoning Commission Meeting
DESCRIPTION:
URL:https://www.orangetwp.org/event/zoning-commission-meeting-34/
LOCATION:Ohio
CATEGORIES:Meeting Center
END:VEVENT
BEGIN:VEVENT
DTSTART;TZID=America/Halifax:20260318T150000
DTEND;TZID=America/Halifax:20260318T170000
DTSTAMP:20260420T104011
CREATED:20260116T130453Z
LAST-MODIFIED:20260416T172054Z
UID:19600-1773846000-1773853200@www.orangetwp.org
SUMMARY:Board of Trustees Regular Meeting
DESCRIPTION:
URL:https://www.orangetwp.org/event/board-of-trustees-regular-meeting-68/
LOCATION:Orange Township Hall Park\, 1680 E Orange Road\, Lewis Center\, OH\, 43035
CATEGORIES:General Events,Meeting Center
END:VEVENT
BEGIN:VEVENT
DTSTART;TZID=America/Halifax:20260319T180000
DTEND;TZID=America/Halifax:20260319T200000
DTSTAMP:20260420T104011
CREATED:20260227T162004Z
LAST-MODIFIED:20260416T175211Z
UID:19855-1773943200-1773950400@www.orangetwp.org
SUMMARY:Board of Zoning Appeals Meeting
DESCRIPTION:
URL:https://www.orangetwp.org/event/board-of-zoning-appeals-meeting-31/
LOCATION:Ohio
CATEGORIES:Meeting Center
END:VEVENT
END:VCALENDAR