BEGIN:VCALENDAR
VERSION:2.0
PRODID:-//Orange Township, OH - Official Website - ECPv6.15.20//NONSGML v1.0//EN
CALSCALE:GREGORIAN
METHOD:PUBLISH
X-WR-CALNAME:Orange Township, OH - Official Website
X-ORIGINAL-URL:https://www.orangetwp.org
X-WR-CALDESC:Events for Orange Township, OH - Official Website
REFRESH-INTERVAL;VALUE=DURATION:PT1H
X-Robots-Tag:noindex
X-PUBLISHED-TTL:PT1H
BEGIN:VTIMEZONE
TZID:America/Halifax
BEGIN:DAYLIGHT
TZOFFSETFROM:-0400
TZOFFSETTO:-0300
TZNAME:ADT
DTSTART:20230312T060000
END:DAYLIGHT
BEGIN:STANDARD
TZOFFSETFROM:-0300
TZOFFSETTO:-0400
TZNAME:AST
DTSTART:20231105T050000
END:STANDARD
BEGIN:DAYLIGHT
TZOFFSETFROM:-0400
TZOFFSETTO:-0300
TZNAME:ADT
DTSTART:20240310T060000
END:DAYLIGHT
BEGIN:STANDARD
TZOFFSETFROM:-0300
TZOFFSETTO:-0400
TZNAME:AST
DTSTART:20241103T050000
END:STANDARD
BEGIN:DAYLIGHT
TZOFFSETFROM:-0400
TZOFFSETTO:-0300
TZNAME:ADT
DTSTART:20250309T060000
END:DAYLIGHT
BEGIN:STANDARD
TZOFFSETFROM:-0300
TZOFFSETTO:-0400
TZNAME:AST
DTSTART:20251102T050000
END:STANDARD
END:VTIMEZONE
BEGIN:VEVENT
DTSTART;TZID=America/Halifax:20241214T100000
DTEND;TZID=America/Halifax:20241214T110000
DTSTAMP:20260419T152101
CREATED:20241120T160901Z
LAST-MODIFIED:20241120T162917Z
UID:15513-1734170400-1734174000@www.orangetwp.org
SUMMARY:Wreaths Across America
DESCRIPTION:Orange Township is participating in Wreaths Across America. Please see this website if  you are interested in purchasing a wreath or volunteering. https://www.wreathsacrossamerica.org/pages/180006/Overview/?relatedId=0
URL:https://www.orangetwp.org/event/wreaths-across-america-2/
END:VEVENT
END:VCALENDAR