BEGIN:VCALENDAR
VERSION:2.0
PRODID:-//Orange Township, OH - Official Website - ECPv6.15.20//NONSGML v1.0//EN
CALSCALE:GREGORIAN
METHOD:PUBLISH
X-WR-CALNAME:Orange Township, OH - Official Website
X-ORIGINAL-URL:https://www.orangetwp.org
X-WR-CALDESC:Events for Orange Township, OH - Official Website
REFRESH-INTERVAL;VALUE=DURATION:PT1H
X-Robots-Tag:noindex
X-PUBLISHED-TTL:PT1H
BEGIN:VTIMEZONE
TZID:America/Halifax
BEGIN:DAYLIGHT
TZOFFSETFROM:-0400
TZOFFSETTO:-0300
TZNAME:ADT
DTSTART:20210314T060000
END:DAYLIGHT
BEGIN:STANDARD
TZOFFSETFROM:-0300
TZOFFSETTO:-0400
TZNAME:AST
DTSTART:20211107T050000
END:STANDARD
BEGIN:DAYLIGHT
TZOFFSETFROM:-0400
TZOFFSETTO:-0300
TZNAME:ADT
DTSTART:20220313T060000
END:DAYLIGHT
BEGIN:STANDARD
TZOFFSETFROM:-0300
TZOFFSETTO:-0400
TZNAME:AST
DTSTART:20221106T050000
END:STANDARD
BEGIN:DAYLIGHT
TZOFFSETFROM:-0400
TZOFFSETTO:-0300
TZNAME:ADT
DTSTART:20230312T060000
END:DAYLIGHT
BEGIN:STANDARD
TZOFFSETFROM:-0300
TZOFFSETTO:-0400
TZNAME:AST
DTSTART:20231105T050000
END:STANDARD
END:VTIMEZONE
BEGIN:VEVENT
DTSTART;TZID=America/Halifax:20220803T173000
DTEND;TZID=America/Halifax:20220803T193000
DTSTAMP:20260422T083409
CREATED:20220712T164200Z
LAST-MODIFIED:20220712T164200Z
UID:4681-1659547800-1659555000@www.orangetwp.org
SUMMARY:Special Trustee Meeting: 2022 Parks Master Plan
DESCRIPTION:
URL:https://www.orangetwp.org/event/special-trustee-meeting-2022-parks-master-plan/
LOCATION:Orange Township Hall Park\, 1680 E Orange Road\, Lewis Center\, OH\, 43035
ATTACH;FMTTYPE=image/png:https://s3.us-east-2.amazonaws.com/s3.orangetwp.org/wp-content/uploads/2022/07/12115805/Special-Board-Of-Trustees-Meeting-Parks-Master-Plan-3.png
END:VEVENT
END:VCALENDAR