BEGIN:VCALENDAR
VERSION:2.0
PRODID:-//Orange Township, OH - Official Website - ECPv6.15.20//NONSGML v1.0//EN
CALSCALE:GREGORIAN
METHOD:PUBLISH
X-WR-CALNAME:Orange Township, OH - Official Website
X-ORIGINAL-URL:https://www.orangetwp.org
X-WR-CALDESC:Events for Orange Township, OH - Official Website
REFRESH-INTERVAL;VALUE=DURATION:PT1H
X-Robots-Tag:noindex
X-PUBLISHED-TTL:PT1H
BEGIN:VTIMEZONE
TZID:America/Halifax
BEGIN:DAYLIGHT
TZOFFSETFROM:-0400
TZOFFSETTO:-0300
TZNAME:ADT
DTSTART:20210314T060000
END:DAYLIGHT
BEGIN:STANDARD
TZOFFSETFROM:-0300
TZOFFSETTO:-0400
TZNAME:AST
DTSTART:20211107T050000
END:STANDARD
BEGIN:DAYLIGHT
TZOFFSETFROM:-0400
TZOFFSETTO:-0300
TZNAME:ADT
DTSTART:20220313T060000
END:DAYLIGHT
BEGIN:STANDARD
TZOFFSETFROM:-0300
TZOFFSETTO:-0400
TZNAME:AST
DTSTART:20221106T050000
END:STANDARD
BEGIN:DAYLIGHT
TZOFFSETFROM:-0400
TZOFFSETTO:-0300
TZNAME:ADT
DTSTART:20230312T060000
END:DAYLIGHT
BEGIN:STANDARD
TZOFFSETFROM:-0300
TZOFFSETTO:-0400
TZNAME:AST
DTSTART:20231105T050000
END:STANDARD
END:VTIMEZONE
BEGIN:VEVENT
DTSTART;TZID=America/Halifax:20220118T170000
DTEND;TZID=America/Halifax:20220118T170000
DTSTAMP:20260421T125653
CREATED:20250930T193200Z
LAST-MODIFIED:20251003T020854Z
UID:18345-1642525200-1642525200@www.orangetwp.org
SUMMARY:2022.01.18 - Regular Trustee Meeting
DESCRIPTION:AgendaMinutes\nAudio\nVideo
URL:https://www.orangetwp.org/event/2022-01-18-regular-trustee-meeting/
CATEGORIES:Meeting Center
END:VEVENT
END:VCALENDAR